BEGIN:VCALENDAR
VERSION:2.0
PRODID:-//CORSA - Central Ohio Rocketry &amp; Spacemodeling Alliance - ECPv6.15.20//NONSGML v1.0//EN
CALSCALE:GREGORIAN
METHOD:PUBLISH
X-WR-CALNAME:CORSA - Central Ohio Rocketry &amp; Spacemodeling Alliance
X-ORIGINAL-URL:https://centralohiorocketry.org
X-WR-CALDESC:Events for CORSA - Central Ohio Rocketry &amp; Spacemodeling Alliance
REFRESH-INTERVAL;VALUE=DURATION:PT1H
X-Robots-Tag:noindex
X-PUBLISHED-TTL:PT1H
BEGIN:VTIMEZONE
TZID:America/New_York
BEGIN:DAYLIGHT
TZOFFSETFROM:-0500
TZOFFSETTO:-0400
TZNAME:EDT
DTSTART:20240310T070000
END:DAYLIGHT
BEGIN:STANDARD
TZOFFSETFROM:-0400
TZOFFSETTO:-0500
TZNAME:EST
DTSTART:20241103T060000
END:STANDARD
BEGIN:DAYLIGHT
TZOFFSETFROM:-0500
TZOFFSETTO:-0400
TZNAME:EDT
DTSTART:20250309T070000
END:DAYLIGHT
BEGIN:STANDARD
TZOFFSETFROM:-0400
TZOFFSETTO:-0500
TZNAME:EST
DTSTART:20251102T060000
END:STANDARD
BEGIN:DAYLIGHT
TZOFFSETFROM:-0500
TZOFFSETTO:-0400
TZNAME:EDT
DTSTART:20260308T070000
END:DAYLIGHT
BEGIN:STANDARD
TZOFFSETFROM:-0400
TZOFFSETTO:-0500
TZNAME:EST
DTSTART:20261101T060000
END:STANDARD
END:VTIMEZONE
BEGIN:VEVENT
DTSTART;TZID=America/New_York:20251001T100000
DTEND;TZID=America/New_York:20251001T130000
DTSTAMP:20260422T045730
CREATED:20250813T173000Z
LAST-MODIFIED:20250813T173000Z
UID:1443-1759312800-1759323600@centralohiorocketry.org
SUMMARY:Weekday Launch
DESCRIPTION:We’re planning launches on the first Wednesday of each month for anyone who can attend. \nWe’ll start setup at 10:00\, and continue into the afternoon.
URL:https://centralohiorocketry.org/index.php/event/weekday-launch-2/
LOCATION:Freedom Park\, 890\, 934 OH-61\, Sunbury\, OH\, 43074\, United States
CATEGORIES:CORSA Launch (public)
END:VEVENT
END:VCALENDAR